BEGIN:VCALENDAR
VERSION:2.0
PRODID:-//Optix Eye Care - ECPv6.15.17.1//NONSGML v1.0//EN
CALSCALE:GREGORIAN
METHOD:PUBLISH
X-ORIGINAL-URL:https://www.optix-eye.com
X-WR-CALDESC:Events for Optix Eye Care
REFRESH-INTERVAL;VALUE=DURATION:PT1H
X-Robots-Tag:noindex
X-PUBLISHED-TTL:PT1H
BEGIN:VTIMEZONE
TZID:America/New_York
BEGIN:DAYLIGHT
TZOFFSETFROM:-0500
TZOFFSETTO:-0400
TZNAME:EDT
DTSTART:20160313T070000
END:DAYLIGHT
BEGIN:STANDARD
TZOFFSETFROM:-0400
TZOFFSETTO:-0500
TZNAME:EST
DTSTART:20161106T060000
END:STANDARD
BEGIN:DAYLIGHT
TZOFFSETFROM:-0500
TZOFFSETTO:-0400
TZNAME:EDT
DTSTART:20170312T070000
END:DAYLIGHT
BEGIN:STANDARD
TZOFFSETFROM:-0400
TZOFFSETTO:-0500
TZNAME:EST
DTSTART:20171105T060000
END:STANDARD
BEGIN:DAYLIGHT
TZOFFSETFROM:-0500
TZOFFSETTO:-0400
TZNAME:EDT
DTSTART:20180311T070000
END:DAYLIGHT
BEGIN:STANDARD
TZOFFSETFROM:-0400
TZOFFSETTO:-0500
TZNAME:EST
DTSTART:20181104T060000
END:STANDARD
END:VTIMEZONE
BEGIN:VEVENT
DTSTART;TZID=America/New_York:20170623T170000
DTEND;TZID=America/New_York:20170623T210000
DTSTAMP:20260419T125947
CREATED:20170531T144035Z
LAST-MODIFIED:20170531T144243Z
UID:1504-1498237200-1498251600@www.optix-eye.com
SUMMARY:Weaverville's Music on Main!
DESCRIPTION:Weaverville’s Music on Main\nFriday\, June 23\, 5-9\nFeaturing The Broadcast and Raising Caine\nOptix is a proud sponsor of Weaverville’s Music on Main event. A huge thank you to the Weaverville Business Association for putting together this fun filled opportunity for our community. We will have a booth set up at the event so make sure to come by and say hello! If you are interested in Volunteering and helping make this event even better you can sign up here. \nWeaverville’s Music on Main is an open air\, one night concert event on Main Street in Weaverville featuring up-and-coming local band The Broadcast with Raising Caine.  The concert will take place in front of Town Hall (30 South Main Street\, Weaverville\, NC 28787) from 5:00 p.m. to 9:00 p.m. Friday\, June 23\, 2017.  The event is free and open to the public.  It is brought to the community by the Weaverville Business Association and the Music on Main Sponsors. \nThe Broadcast\, formed in Brooklyn 2007\,  is a rock and soul band that relocated to Asheville\, NC to do some soul-searching.  They boast an authentic soul\, blues and rock sound and have shared the stage with the likes of Mavis Staples\, John Prine\, St. Paul & The Broken Bones\, The Wood Brothers\, Brandi Carlisle\, Keller Williams\, Nicki Bluhm & The Gramblers\, George Porter Jr. (Funky Meters).  Their sophomore record released this June\, From The Horizon\, was produced by Jim Scott who has worked with the Tedeschi Trucks Band and Tom Petty and to rave reviews. \nOpening for The Broadcast is Raising Caine\, an Americana band fronted by lead singer-songwriter and Asheville native\, Caine McDonald. Members of the band come from many musical backgrounds but their sound is distinctly rooted in Appalachia. \nThere will be food\, drink\, kids activities and booths.  Local restaurants will be open all along Main Street.  Traffic will be stopped between Merrimon Avenue and Brown Street.  Parking is free at Weaverville Primary School. \nCome join us! Music on Main is not to be missed!!
URL:https://www.optix-eye.com/events-calendar/weavervilles-music-on-main/
CATEGORIES:Community Event
ATTACH;FMTTYPE=image/jpeg:https://www.optix-eye.com/wp-content/uploads/2017/05/MusicOnMain.jpg
END:VEVENT
END:VCALENDAR