BEGIN:VCALENDAR
VERSION:2.0
PRODID:-//Optix Eye Care - ECPv6.15.17.1//NONSGML v1.0//EN
CALSCALE:GREGORIAN
METHOD:PUBLISH
X-WR-CALNAME:Optix Eye Care
X-ORIGINAL-URL:https://www.optix-eye.com
X-WR-CALDESC:Events for Optix Eye Care
REFRESH-INTERVAL;VALUE=DURATION:PT1H
X-Robots-Tag:noindex
X-PUBLISHED-TTL:PT1H
BEGIN:VTIMEZONE
TZID:America/New_York
BEGIN:DAYLIGHT
TZOFFSETFROM:-0500
TZOFFSETTO:-0400
TZNAME:EDT
DTSTART:20150308T070000
END:DAYLIGHT
BEGIN:STANDARD
TZOFFSETFROM:-0400
TZOFFSETTO:-0500
TZNAME:EST
DTSTART:20151101T060000
END:STANDARD
BEGIN:DAYLIGHT
TZOFFSETFROM:-0500
TZOFFSETTO:-0400
TZNAME:EDT
DTSTART:20160313T070000
END:DAYLIGHT
BEGIN:STANDARD
TZOFFSETFROM:-0400
TZOFFSETTO:-0500
TZNAME:EST
DTSTART:20161106T060000
END:STANDARD
BEGIN:DAYLIGHT
TZOFFSETFROM:-0500
TZOFFSETTO:-0400
TZNAME:EDT
DTSTART:20170312T070000
END:DAYLIGHT
BEGIN:STANDARD
TZOFFSETFROM:-0400
TZOFFSETTO:-0500
TZNAME:EST
DTSTART:20171105T060000
END:STANDARD
END:VTIMEZONE
BEGIN:VEVENT
DTSTART;TZID=America/New_York:20160122T113000
DTEND;TZID=America/New_York:20160122T131500
DTSTAMP:20260419T130531
CREATED:20151022T200601Z
LAST-MODIFIED:20151027T145336Z
UID:1047-1453462200-1453468500@www.optix-eye.com
SUMMARY:OLLI at UNCA: Macular Degeneration & the Blue Light Danger
DESCRIPTION:OLLI at UNCA: Macular Degeneration & the Blue Light Danger   \n\nAge Related Macular Degeneration (AMD) is the leading cause of vision loss in the US. With an estimated 11 million individuals in the US suffering from AMD\, a figure that is expected to grow to 22 million by 2050\, we are facing a coming epidemic of AMD. In addition to the increase in our aging population\, we are using our eyes like never before in history. Join Dr. Kim Walters\, owner of Optix Eye Care\, as she discusses AMD\, and our newest threat to our health\, blue light which is emitted in high concentration from our smartphones\, tablets\, computers\, TVs\, fluorescent lights\, and LED lighting. With 18 years of experience practicing optometry in Weaverville\, NC\, Dr. Walters is an expert on the prevention\, early detection and management of ocular disease.
URL:https://www.optix-eye.com/events-calendar/olli-at-unca-macular-degeneration-the-blue-light-danger/
ATTACH;FMTTYPE=image/jpeg:https://www.optix-eye.com/wp-content/uploads/2015/10/OLLI_WebsiteBannerGraphic.jpg
ORGANIZER;CN="Osher Lifelong Learning Institute":MAILTO:olli@unca.edu
END:VEVENT
END:VCALENDAR