BEGIN:VCALENDAR
VERSION:2.0
PRODID:-//Optix Eye Care - ECPv6.15.17.1//NONSGML v1.0//EN
CALSCALE:GREGORIAN
METHOD:PUBLISH
X-WR-CALNAME:Optix Eye Care
X-ORIGINAL-URL:https://www.optix-eye.com
X-WR-CALDESC:Events for Optix Eye Care
REFRESH-INTERVAL;VALUE=DURATION:PT1H
X-Robots-Tag:noindex
X-PUBLISHED-TTL:PT1H
BEGIN:VTIMEZONE
TZID:America/New_York
BEGIN:DAYLIGHT
TZOFFSETFROM:-0500
TZOFFSETTO:-0400
TZNAME:EDT
DTSTART:20170312T070000
END:DAYLIGHT
BEGIN:STANDARD
TZOFFSETFROM:-0400
TZOFFSETTO:-0500
TZNAME:EST
DTSTART:20171105T060000
END:STANDARD
BEGIN:DAYLIGHT
TZOFFSETFROM:-0500
TZOFFSETTO:-0400
TZNAME:EDT
DTSTART:20180311T070000
END:DAYLIGHT
BEGIN:STANDARD
TZOFFSETFROM:-0400
TZOFFSETTO:-0500
TZNAME:EST
DTSTART:20181104T060000
END:STANDARD
BEGIN:DAYLIGHT
TZOFFSETFROM:-0500
TZOFFSETTO:-0400
TZNAME:EDT
DTSTART:20190310T070000
END:DAYLIGHT
BEGIN:STANDARD
TZOFFSETFROM:-0400
TZOFFSETTO:-0500
TZNAME:EST
DTSTART:20191103T060000
END:STANDARD
BEGIN:DAYLIGHT
TZOFFSETFROM:-0500
TZOFFSETTO:-0400
TZNAME:EDT
DTSTART:20200308T070000
END:DAYLIGHT
BEGIN:STANDARD
TZOFFSETFROM:-0400
TZOFFSETTO:-0500
TZNAME:EST
DTSTART:20201101T060000
END:STANDARD
END:VTIMEZONE
BEGIN:VEVENT
DTSTART;TZID=America/New_York:20180428T100000
DTEND;TZID=America/New_York:20180429T170000
DTSTAMP:20260419T234158
CREATED:20180418T182645Z
LAST-MODIFIED:20180426T122227Z
UID:1594-1524909600-1525021200@www.optix-eye.com
SUMMARY:Optix is Proud to Host Artist Denby Dale for the Weaverville Art Safari
DESCRIPTION:The Weaverville Art Safari is just around the corner! Optix is proud to be hosting Artist Denby Dale in our lobby April 28th and 29th 10 am – 5pm in participation with the Art Safari. \nHer work was recently featured on the cover of The Laurel of Asheville magazine. She is also currently in the show ‘Form & Function’ at Contemporaneo Asheville downtown Asheville. That show is on display until June 30th. \nDenby will be showing encaustics\, mixed media drawings/paintings and small format assemblages in the form of wearable belt buckles and hanging plaques. \nPlease join us in supporting our talented local artists! We would love to see you on safari! \n  \n  \n     \n\n\n 
URL:https://www.optix-eye.com/events-calendar/1594/
LOCATION:Optix\, 49 N Buncombe School Rd\, Weaverville\, NC\, United States
CATEGORIES:Community Event
ATTACH;FMTTYPE=image/jpeg:https://www.optix-eye.com/wp-content/uploads/2018/04/Cover-Artist-Denby-Dale-3-Sequence-Yellow-print.jpg
END:VEVENT
BEGIN:VEVENT
DTSTART;TZID=America/New_York:20180728T100000
DTEND;TZID=America/New_York:20180728T170000
DTSTAMP:20260419T234158
CREATED:20180717T131533Z
LAST-MODIFIED:20180717T131533Z
UID:1637-1532772000-1532797200@www.optix-eye.com
SUMMARY:20 YEAR CELEBRATION SALE & BBQ
DESCRIPTION:Join us for our 20 year celebration SALE and Free BBQ ! \nDon’t miss the State Optical Co. and Kaenon trunk shows and a chance to win free glasses! \nWe will also be offering FREE macular pigment screenings during the event. This is a great way assess your risk factors for developing Macular Degeneration. \nAN EVENT NOT TO BE MISSED! \n 
URL:https://www.optix-eye.com/events-calendar/20-year-celebration-sale-bbq/
LOCATION:Optix\, 49 N Buncombe School Rd\, Weaverville\, NC\, United States
CATEGORIES:Community Event,Optical,Sale,Tunk Show
ATTACH;FMTTYPE=image/png:https://www.optix-eye.com/wp-content/uploads/2018/07/BBQ-Glasses-e1531833199688.png
END:VEVENT
BEGIN:VEVENT
DTSTART;TZID=America/New_York:20180915T100000
DTEND;TZID=America/New_York:20180916T180000
DTSTAMP:20260419T234158
CREATED:20180904T213158Z
LAST-MODIFIED:20180904T213945Z
UID:1663-1537005600-1537120800@www.optix-eye.com
SUMMARY:SHOW & TELL POP UP SHOP!
DESCRIPTION:
URL:https://www.optix-eye.com/events-calendar/pop-up-shop-weaverville-weekend/
LOCATION:Optix\, 49 N Buncombe School Rd\, Weaverville\, NC\, United States
CATEGORIES:Community Event,Tunk Show
ATTACH;FMTTYPE=image/jpeg:https://www.optix-eye.com/wp-content/uploads/2018/09/FALL-MINI-POP_INSTAGRAM_01.jpg
END:VEVENT
BEGIN:VEVENT
DTSTART;TZID=America/New_York:20181020T020000
DTEND;TZID=America/New_York:20181020T190000
DTSTAMP:20260419T234158
CREATED:20180904T215115Z
LAST-MODIFIED:20181004T143212Z
UID:1677-1540000800-1540062000@www.optix-eye.com
SUMMARY:Aabani Salon Make Over + Barton Perreira Trunk Show
DESCRIPTION:We are continuing to celebrate our 20 year anniversary on October 20th with a Barton Perreira Trunk Show and Aabani Salon Makeovers. \nCall us today to Schedule with an Aabani Stylist for a make-over at Optix and pick out your new favorite pair of glasses to top it off!
URL:https://www.optix-eye.com/events-calendar/aabani-salon-make-over-barton-perreira-trunk-show/
CATEGORIES:Community Event,Tunk Show
ATTACH;FMTTYPE=image/png:https://www.optix-eye.com/wp-content/uploads/2018/09/TRUNK-SHOW-MAKEOVER-1.png
END:VEVENT
BEGIN:VEVENT
DTSTART;TZID=America/New_York:20181031T130000
DTEND;TZID=America/New_York:20181031T150000
DTSTAMP:20260419T234158
CREATED:20181017T195221Z
LAST-MODIFIED:20181017T200140Z
UID:1694-1540990800-1540998000@www.optix-eye.com
SUMMARY:Puppy Kissing Booth Pre Veterans Day Fundraiser
DESCRIPTION:Optix is excited to welcome The Hero Litter\, four Labrador retriever puppies whose training will support their efforts to become service dogs for deserving Veterans in Western North Carolina.  Founded in 2006\, Paws & Effect is celebrating their expansion into our community.  With more than 100 service dog teams successfully partnered in the upper Midwest\, we are looking forward to the good that will come from their presence here. \nDr. Walters has had a passion for serving the veteran community for the 20 year duration of her practice\, Optix Eye Care.  We accept direct referrals from the VA medical center for routine vision care and also provide specialized follow up care. We also participate with all TriCare plans for active duty military and retired veterans. \n\nWe are hosting a puppy kissing booth on October 31st\, between 1-3pm.  The Hero Litter will be joining us with their tail wags to share some of their new skills.  This experience is especially enriching for the puppies as they will have an opportunity to play with children.  Both children and puppies will be guided towards appropriate interactions with fun for all!\n 
URL:https://www.optix-eye.com/events-calendar/puppy-kissing-booth-pre-veterans-day-fundraiser/
LOCATION:Optix\, 49 N Buncombe School Rd\, Weaverville\, NC\, United States
CATEGORIES:Community Event
ATTACH;FMTTYPE=image/jpeg:https://www.optix-eye.com/wp-content/uploads/2018/10/IMG_5993.jpg
END:VEVENT
BEGIN:VEVENT
DTSTART;TZID=America/New_York:20190321T160000
DTEND;TZID=America/New_York:20190321T190000
DTSTAMP:20260419T234158
CREATED:20190309T011645Z
LAST-MODIFIED:20190309T011754Z
UID:1893-1553184000-1553194800@www.optix-eye.com
SUMMARY:TempSure Envi Dry Eye & Wrinkle Treatment Launch
DESCRIPTION:  \nOptix Eye Care wants you to see and look your best! \nTempsure Envi is an exciting new treatment we now have to offer to those who suffer from dry eye or just want to combat fine lines & wrinkles. \nJoin us for a live demo of the new skin rejuvenating treatment and take advantage of exclusive event promotions. \nAlso introducing Theraderm skin renewal system.
URL:https://www.optix-eye.com/events-calendar/1893/
LOCATION:Optix\, 49 N Buncombe School Rd\, Weaverville\, NC\, United States
CATEGORIES:Community Event
END:VEVENT
BEGIN:VEVENT
DTSTART;TZID=America/New_York:20190530T163000
DTEND;TZID=America/New_York:20190530T183000
DTSTAMP:20260419T234158
CREATED:20190521T201826Z
LAST-MODIFIED:20190521T201904Z
UID:1908-1559233800-1559241000@www.optix-eye.com
SUMMARY:WINE & Learn May 30th
DESCRIPTION:
URL:https://www.optix-eye.com/events-calendar/1908/
LOCATION:Maggie B’s Wine & Specialty Store\, 10 S Main St\, Weaverville\, NC\, 28787
END:VEVENT
BEGIN:VEVENT
DTSTART;TZID=America/New_York:20191010T090000
DTEND;TZID=America/New_York:20191010T170000
DTSTAMP:20260419T234158
CREATED:20191002T190436Z
LAST-MODIFIED:20191002T190612Z
UID:1926-1570698000-1570726800@www.optix-eye.com
SUMMARY:BARTON PERREIRA TRUNK SHOW & SALE
DESCRIPTION:
URL:https://www.optix-eye.com/events-calendar/barton-perreira-trunk-show-sale/
LOCATION:Optix\, 49 N Buncombe School Rd\, Weaverville\, NC\, United States
END:VEVENT
END:VCALENDAR